BEGIN:VCALENDAR
VERSION:2.0
PRODID:spatie/icalendar-generator
DESCRIPTION:Events from Trendsetters Spirits
X-WR-CALDESC:Events from Trendsetters Spirits
REFRESH-INTERVAL;VALUE=DURATION:PT1440M
X-PUBLISHED-TTL:PT1440M
BEGIN:VTIMEZONE
TZID:America/New_York
BEGIN:DAYLIGHT
DTSTART:20250309T020000Z
TZOFFSETFROM:-0500
TZOFFSETTO:-0400
END:DAYLIGHT
BEGIN:STANDARD
DTSTART:20251102T020000Z
TZOFFSETFROM:-0400
TZOFFSETTO:-0500
END:STANDARD
BEGIN:DAYLIGHT
DTSTART:20260308T020000Z
TZOFFSETFROM:-0500
TZOFFSETTO:-0400
END:DAYLIGHT
END:VTIMEZONE
BEGIN:VTIMEZONE
TZID:UTC
BEGIN:STANDARD
DTSTART:20250725T181919Z
TZOFFSETFROM:+0000
TZOFFSETTO:+0000
END:STANDARD
END:VTIMEZONE
BEGIN:VEVENT
UID:95-89
DTSTAMP:20260421T181919Z
SUMMARY:Total Wine &amp;amp\; More - Maryland
LOCATION:Total Wine &amp;amp\; More  8727 Loch Raven Blvd  Towson MD 21286
ORGANIZER;CN=Kenny1108:MAILTO:info@alphaomegaphi.org
DTSTART;TZID=America/New_York:20251128T130000
DTEND;TZID=America/New_York:20251128T160000
X-ALT-DESC;FMTTYPE=TEXT/HTML:
CATEGORIES:Maryland,  Total Wine &amp; More
URL;VALUE=URI:https://trendsettersspirits.org/mc-events/total-wine-more-mar
 yland/
METHOD:PUBLISH
END:VEVENT
END:VCALENDAR