BEGIN:VCALENDAR
VERSION:2.0
PRODID:spatie/icalendar-generator
DESCRIPTION:Events from Trendsetters Spirits
X-WR-CALDESC:Events from Trendsetters Spirits
REFRESH-INTERVAL;VALUE=DURATION:PT1440M
X-PUBLISHED-TTL:PT1440M
BEGIN:VTIMEZONE
TZID:America/New_York
BEGIN:STANDARD
DTSTART:20251102T020000Z
TZOFFSETFROM:-0400
TZOFFSETTO:-0500
END:STANDARD
BEGIN:DAYLIGHT
DTSTART:20260308T020000Z
TZOFFSETFROM:-0500
TZOFFSETTO:-0400
END:DAYLIGHT
END:VTIMEZONE
BEGIN:VTIMEZONE
TZID:UTC
BEGIN:STANDARD
DTSTART:20250725T195625Z
TZOFFSETFROM:+0000
TZOFFSETTO:+0000
END:STANDARD
END:VTIMEZONE
BEGIN:VEVENT
UID:96-90
DTSTAMP:20260421T195625Z
SUMMARY:MCX-Norfolk
LOCATION:MCX- Norfolk  1251 Yalu Street  Norfolk VA 23515
ORGANIZER;CN=Kenny1108:MAILTO:info@alphaomegaphi.org
DTSTART;TZID=America/New_York:20251217T123000
DTEND;TZID=America/New_York:20251217T180000
X-ALT-DESC;FMTTYPE=TEXT/HTML:
CATEGORIES:Marine Corps Exchange
URL;VALUE=URI:https://trendsettersspirits.org/mc-events/mcx-norfolk/
METHOD:PUBLISH
END:VEVENT
END:VCALENDAR