BEGIN:VCALENDAR
VERSION:2.0
PRODID:spatie/icalendar-generator
DESCRIPTION:Events from Trendsetters Spirits
X-WR-CALDESC:Events from Trendsetters Spirits
REFRESH-INTERVAL;VALUE=DURATION:PT1440M
X-PUBLISHED-TTL:PT1440M
BEGIN:VTIMEZONE
TZID:America/New_York
BEGIN:STANDARD
DTSTART:20251102T020000Z
TZOFFSETFROM:-0400
TZOFFSETTO:-0500
END:STANDARD
BEGIN:DAYLIGHT
DTSTART:20260308T020000Z
TZOFFSETFROM:-0500
TZOFFSETTO:-0400
END:DAYLIGHT
END:VTIMEZONE
BEGIN:VTIMEZONE
TZID:UTC
BEGIN:STANDARD
DTSTART:20250726T010808Z
TZOFFSETFROM:+0000
TZOFFSETTO:+0000
END:STANDARD
END:VTIMEZONE
BEGIN:VEVENT
UID:99-93
DTSTAMP:20260422T010808Z
SUMMARY:Total Wine &amp;amp\; More - Jacksonville
LOCATION:Total Wine &amp;amp\; More - Jacksonville FL 4413 Town Center Parkway 
   Jacksonville FL 32246
ORGANIZER;CN=Kenny1108:MAILTO:info@alphaomegaphi.org
DTSTART;TZID=America/New_York:20260124T140000
DTEND;TZID=America/New_York:20260124T170000
X-ALT-DESC;FMTTYPE=TEXT/HTML:
CATEGORIES:Total Wine &amp; More,  Florida
URL;VALUE=URI:https://trendsettersspirits.org/mc-events/total-wine-more-jac
 ksonville-2/
METHOD:PUBLISH
END:VEVENT
END:VCALENDAR