BEGIN:VCALENDAR
VERSION:2.0
PRODID:spatie/icalendar-generator
DESCRIPTION:Events from Trendsetters Spirits
X-WR-CALDESC:Events from Trendsetters Spirits
REFRESH-INTERVAL;VALUE=DURATION:PT1440M
X-PUBLISHED-TTL:PT1440M
BEGIN:VTIMEZONE
TZID:America/New_York
BEGIN:STANDARD
DTSTART:20251102T020000Z
TZOFFSETFROM:-0400
TZOFFSETTO:-0500
END:STANDARD
BEGIN:DAYLIGHT
DTSTART:20260308T020000Z
TZOFFSETFROM:-0500
TZOFFSETTO:-0400
END:DAYLIGHT
END:VTIMEZONE
BEGIN:VTIMEZONE
TZID:UTC
BEGIN:STANDARD
DTSTART:20250725T163830Z
TZOFFSETFROM:+0000
TZOFFSETTO:+0000
END:STANDARD
END:VTIMEZONE
BEGIN:VEVENT
UID:94-88
DTSTAMP:20260421T163830Z
SUMMARY:Last Call ABC
LOCATION:Last Call ABC 936 E Liberty St  York SC 29745
ORGANIZER;CN=Kenny1108:MAILTO:info@alphaomegaphi.org
DTSTART;TZID=America/New_York:20251213T153000
DTEND;TZID=America/New_York:20251213T190000
X-ALT-DESC;FMTTYPE=TEXT/HTML:
CATEGORIES:South Carolina
URL;VALUE=URI:https://trendsettersspirits.org/mc-events/last-call-abc/
METHOD:PUBLISH
END:VEVENT
END:VCALENDAR